BEGIN:VCALENDAR
VERSION:2.0
PRODID:-//ChamberMaster//Event Calendar 2.0//EN
METHOD:PUBLISH
X-PUBLISHED-TTL:P3D
REFRESH-INTERVAL:P3D
CALSCALE:GREGORIAN
BEGIN:VEVENT
DTSTART:20210319T160000Z
DTEND:20210319T180000Z
X-MICROSOFT-CDO-ALLDAYEVENT:FALSE
SUMMARY:Memorial Care 2021: A Path Forward
DESCRIPTION:Memorial Care 2021: A Path to Renewal
X-ALT-DESC;FMTTYPE=text/html:Memorial Care 2021: A Path to Renewal&nbsp\;&nbsp\;&nbsp\;&nbsp\;
LOCATION:Presented Online
UID:e.2030.5343
SEQUENCE:3
DTSTAMP:20260421T205920Z
URL:http://business.fvchamber.com/events/details/memorial-care-2021-a-path-forward-5343
END:VEVENT

END:VCALENDAR
