BEGIN:VCALENDAR
VERSION:2.0
PRODID:-//ChamberMaster//Event Calendar 2.0//EN
METHOD:PUBLISH
X-PUBLISHED-TTL:P3D
REFRESH-INTERVAL:P3D
CALSCALE:GREGORIAN
BEGIN:VEVENT
DTSTART:20161209T013000Z
DTEND:20161209T043000Z
X-MICROSOFT-CDO-ALLDAYEVENT:FALSE
SUMMARY:Member Appreciation Holiday Mixer
DESCRIPTION:Member Appreciation\n\nHoliday Mixer
X-ALT-DESC;FMTTYPE=text/html:<span style="font-size:16px\;"><strong>Member Appreciation</strong></span><br />\n<span style="font-size:18px\;"><em><strong>Holiday Mixer</strong></em></span>
LOCATION:Los Caballeros Sports Village (Poolview Room - upstairs) 17272 Newhope Street Fountain Valley\, CA 92708
UID:e.2030.3847
SEQUENCE:3
DTSTAMP:20260425T034056Z
URL:http://business.fvchamber.com/events/details/member-appreciation-holiday-mixer-3847
END:VEVENT

END:VCALENDAR
