BEGIN:VCALENDAR
VERSION:2.0
PRODID:-//ChamberMaster//Event Calendar 2.0//EN
METHOD:PUBLISH
X-PUBLISHED-TTL:P3D
REFRESH-INTERVAL:P3D
CALSCALE:GREGORIAN
BEGIN:VEVENT
DTSTART:20160811T003000Z
DTEND:20160811T023000Z
X-MICROSOFT-CDO-ALLDAYEVENT:FALSE
SUMMARY:Melissa Watanabe Insurance Agency
DESCRIPTION:Farmers Insurance-Melissa Watanabe Agency\n\nfeaturing wine tasting by ONEHOPE Wine
X-ALT-DESC;FMTTYPE=text/html:<div><span style="font-size:16px\;"><strong>Farmers Insurance-Melissa Watanabe Agency<br />\n<em>featuring wine tasting by&nbsp\;</em></strong></span><em><span style="font-size:16px\;"><strong>ONEHOPE Wine</strong></span></em></div>\n
LOCATION:Farmers Insurance-Melissa Watanabe Agency 17280 Newhope Street\, Ste. 6 Fountain Valley\, CA 92708
UID:e.2030.2661
SEQUENCE:3
DTSTAMP:20260425T112221Z
URL:http://business.fvchamber.com/events/details/melissa-watanabe-insurance-agency-08-10-2016-2661
END:VEVENT

END:VCALENDAR
