BEGIN:VCALENDAR
VERSION:2.0
PRODID:-//ChamberMaster//Event Calendar 2.0//EN
METHOD:PUBLISH
X-PUBLISHED-TTL:P3D
REFRESH-INTERVAL:P3D
CALSCALE:GREGORIAN
BEGIN:VEVENT
DTSTART:20220920T183000Z
DTEND:20220920T200000Z
X-MICROSOFT-CDO-ALLDAYEVENT:FALSE
SUMMARY:Meet the Candidates Luncheon Sep. 20th
DESCRIPTION:Come meet the Candidates that are running for City Council! \n\nKim Constantine\n\nJim Cunneen\n\nDarrel Mymon-Brown\n\nMichael Mau
X-ALT-DESC;FMTTYPE=text/html:<span style="font-family:tahoma\;"><strong><span style="font-size:26px\;"><span style="color:#0000CD\;">Come meet the Candidates that are running for City Council!&nbsp\;</span></span><br />\n<font color="#b22222"><span style="font-size: 20px\;">Kim Constantine<br />\nJim Cunneen<br />\nDarrel Mymon-Brown<br />\nMichael Mau</span></font></strong></span>
LOCATION:Amarith Farmhouse 18279 Brookhurst St #6\, Fountain Valley\, CA 92708
UID:e.2030.5863
SEQUENCE:3
DTSTAMP:20260420T122133Z
URL:http://business.fvchamber.com/events/details/meet-the-candidates-luncheon-sep-20th-5863
END:VEVENT

END:VCALENDAR
