BEGIN:VCALENDAR
VERSION:2.0
PRODID:-//ChamberMaster//Event Calendar 2.0//EN
METHOD:PUBLISH
X-PUBLISHED-TTL:P3D
REFRESH-INTERVAL:P3D
CALSCALE:GREGORIAN
BEGIN:VEVENT
DTSTART:20220913T183000Z
DTEND:20220913T200000Z
X-MICROSOFT-CDO-ALLDAYEVENT:FALSE
SUMMARY:Meet the Candidates Luncheon Sep. 13th
DESCRIPTION:Come meet the Candidates that are running for City Council! \n\nShaun Diamond\n\nSteve Nagel\n\nPatrick Harper\n\nRudy Huebner
X-ALT-DESC;FMTTYPE=text/html:<span style="font-family:tahoma\;"><strong><span style="font-size:26px\;"><span style="color:#0000CD\;">Come meet the Candidates that are running for City Council!&nbsp\;</span></span><br />\n<span style="font-size:20px\;"><span style="color:#B22222\;">Shaun Diamond<br />\nSteve Nagel<br />\nPatrick Harper<br />\nRudy Huebner</span></span></strong></span>
LOCATION:Cambalache Grill Argentine & Italian Cuisine 8780 Warner Ave #15\, Fountain Valley\, CA 92708
UID:e.2030.5862
SEQUENCE:3
DTSTAMP:20260420T122307Z
URL:http://business.fvchamber.com/events/details/meet-the-candidates-luncheon-sep-13th-5862
END:VEVENT

END:VCALENDAR
