BEGIN:VCALENDAR
VERSION:2.0
PRODID:-//ChamberMaster//Event Calendar 2.0//EN
METHOD:PUBLISH
X-PUBLISHED-TTL:P3D
REFRESH-INTERVAL:P3D
CALSCALE:GREGORIAN
BEGIN:VEVENT
DTSTART:20190524T000000Z
DTEND:20190524T010000Z
X-MICROSOFT-CDO-ALLDAYEVENT:FALSE
SUMMARY:Medicare Community Meeting
DESCRIPTION:If you are turning 65 years old\, join us for a piece of pie and an explanation of how Medicare Insurance Plans work. Bring your questions and a friend.
X-ALT-DESC;FMTTYPE=text/html:<div style="background:rgb(255\, 255\, 255)\; border:0px\; padding:0px">\n<div style="background:transparent\; border:0px\; padding:0px">\n<div style="background:transparent\; border:0px\; padding:0px">\n<div style="background:transparent\; border:0px\; padding:0px">\n<div style="background:transparent\; border:0px\; padding:0px">If you are turning 65 years old\, join us for a piece of pie and an explanation of how Medicare Insurance Plans work. Bring your questions and a friend.</div>\n</div>\n\n<div style="background:transparent\; border:0px\; padding:0px">&nbsp\;</div>\n</div>\n</div>\n</div>\n\n<div style="background:rgb(255\, 255\, 255)\; border:0px\; padding:0px">&nbsp\;</div>\n\n<div style="background:rgb(255\, 255\, 255)\; border:0px\; padding:0px">&nbsp\;</div>\n\n<div style="background:transparent\; border:0px\; padding:0px">\n<div style="background:transparent\; border:0px\; margin-left:0px\; margin-right:0px\; padding:0px">&nbsp\;</div>\n</div>\n
LOCATION:Marie Callender's at 18889 Brookhurst St. Fountain Valley\, CA 92708
UID:e.2030.5114
SEQUENCE:3
DTSTAMP:20260423T070516Z
URL:http://business.fvchamber.com/events/details/medicare-community-meeting-5114
END:VEVENT

END:VCALENDAR
