BEGIN:VCALENDAR
VERSION:2.0
PRODID:-//ChamberMaster//Event Calendar 2.0//EN
METHOD:PUBLISH
X-PUBLISHED-TTL:P3D
REFRESH-INTERVAL:P3D
CALSCALE:GREGORIAN
BEGIN:VEVENT
DTSTART:20151025T010000Z
DTEND:20151025T050000Z
X-MICROSOFT-CDO-ALLDAYEVENT:FALSE
SUMMARY:Mayor's Social
DESCRIPTION:On Saturday\, October 24\, 2015\, the Fountain Valley Chamber of Commerce will host an incredible and fun Mayor's Social at the Mile Square Golf Course Banquet Room\, 10401 Warner Avenue in Fountain Valley.  We are taking the annual Mayor's event in a different direction with a rustic chic affair complete with a BBQ buffet\, lemonade cocktail cooler\, country-classic band and a dress-up or dress-down affair.
X-ALT-DESC;FMTTYPE=text/html:On Saturday\, October 24\, 2015\, the Fountain Valley Chamber of Commerce will host an incredible and fun Mayor&rsquo\;s Social at the Mile Square Golf Course Banquet Room\, 10401 Warner Avenue in Fountain Valley.&nbsp\; We are taking the annual Mayor&#39\;s event in a different direction with a rustic chic affair complete with a BBQ buffet\, lemonade cocktail cooler\, country-classic band and a dress-up or dress-down affair.
LOCATION:Mile Square Golf Course Banquet Room 10401 Warner Avenue Fountain Valley
UID:e.2030.2154
SEQUENCE:3
DTSTAMP:20260426T013122Z
URL:http://business.fvchamber.com/events/details/mayor-s-social-10-24-2015-2154
END:VEVENT

END:VCALENDAR
