BEGIN:VCALENDAR
VERSION:2.0
PRODID:-//ChamberMaster//Event Calendar 2.0//EN
METHOD:PUBLISH
X-PUBLISHED-TTL:P3D
REFRESH-INTERVAL:P3D
CALSCALE:GREGORIAN
BEGIN:VEVENT
DTSTART:20151118T160000Z
DTEND:20151118T170000Z
X-MICROSOFT-CDO-ALLDAYEVENT:FALSE
SUMMARY:Mayor's Breakfast
DESCRIPTION:Last Mayor's Breakfast of 2015
X-ALT-DESC;FMTTYPE=text/html:Last Mayor&#39\;s Breakfast of 2015
LOCATION:Saltzer Room FV Regional Hospital & Medical Center 17100 Euclid St.\, Fountain Valley
UID:e.2030.2172
SEQUENCE:3
DTSTAMP:20260426T011558Z
URL:http://business.fvchamber.com/events/details/mayor-s-breakfast-11-18-2015-2172
END:VEVENT

END:VCALENDAR
