BEGIN:VCALENDAR
VERSION:2.0
PRODID:-//ChamberMaster//Event Calendar 2.0//EN
METHOD:PUBLISH
X-PUBLISHED-TTL:P3D
REFRESH-INTERVAL:P3D
CALSCALE:GREGORIAN
BEGIN:VEVENT
DTSTART:20201114T210000Z
DTEND:20201115T000000Z
X-MICROSOFT-CDO-ALLDAYEVENT:FALSE
SUMMARY:Mayor's Beach Ball
DESCRIPTION:The Fountain Valley Chamber of Commerce is proud to present the 2020 Mayor's (Beach) Ball.  A long-standing Cultural Tradition\, honoring Mayor Cheryl Brothers & The Fountain Valley City Council.
X-ALT-DESC;FMTTYPE=text/html:<strong><span style="color:#FF8C00\;"><span style="font-family:verdana\;"><span style="font-size:18px\;">The Fountain Valley Chamber of Commerce is proud to present the 2020 Mayor&#39\;s (Beach) Ball.&nbsp\; A long-standing Cultural Tradition\, honoring Mayor Cheryl Brothers &amp\; The Fountain Valley City Council.</span></span></span></strong>
LOCATION:Heritage Park 17641 Los Alamos St. Fountain Valley\, CA 92708
UID:e.2030.5314
SEQUENCE:3
DTSTAMP:20260422T024541Z
URL:http://business.fvchamber.com/events/details/mayor-s-beach-ball-5314
END:VEVENT

END:VCALENDAR
