BEGIN:VCALENDAR
VERSION:2.0
PRODID:-//ChamberMaster//Event Calendar 2.0//EN
METHOD:PUBLISH
X-PUBLISHED-TTL:P3D
REFRESH-INTERVAL:P3D
CALSCALE:GREGORIAN
BEGIN:VEVENT
DTSTART:20181104T010000Z
DTEND:20181104T050000Z
X-MICROSOFT-CDO-ALLDAYEVENT:FALSE
SUMMARY:Mayor's Ball presented by the Fountain Valley Chamber
DESCRIPTION:Mayor's Ball\n\npresented by the Fountain Valley Chamber of Commerce
X-ALT-DESC;FMTTYPE=text/html:<span style="font-size:16px\;"><strong>Mayor&#39\;s Ball</strong></span><br />\n<span style="font-size:14px\;"><em><strong>presented by the Fountain Valley Chamber of Commerce</strong></em></span>
LOCATION:Mile Square Golf Course Banquet Room 10401 Warner Ave. Fountain Valley
UID:e.2030.4374
SEQUENCE:3
DTSTAMP:20260423T161446Z
URL:http://business.fvchamber.com/events/details/mayor-s-ball-presented-by-the-fountain-valley-chamber-4374
END:VEVENT

END:VCALENDAR
