BEGIN:VCALENDAR
VERSION:2.0
PRODID:-//ChamberMaster//Event Calendar 2.0//EN
METHOD:PUBLISH
X-PUBLISHED-TTL:P3D
REFRESH-INTERVAL:P3D
CALSCALE:GREGORIAN
BEGIN:VEVENT
DTSTART:20180611T210000Z
DTEND:20180611T220000Z
X-MICROSOFT-CDO-ALLDAYEVENT:FALSE
SUMMARY:Mayor's Ball Committee Meeting
DESCRIPTION:Mayor's Ball Committee Meeting
X-ALT-DESC;FMTTYPE=text/html:<span style="font-size:16px\;"><strong>Mayor&#39\;s Ball Committee Meeting</strong></span>
LOCATION:Fountain Valley Chamber of Commerce 10055 Slater Ave.\, #250 Fountain Valley
UID:e.2030.4809
SEQUENCE:3
DTSTAMP:20260423T234756Z
URL:http://business.fvchamber.com/events/details/mayor-s-ball-committee-meeting-4809
END:VEVENT

END:VCALENDAR
