BEGIN:VCALENDAR
VERSION:2.0
PRODID:-//ChamberMaster//Event Calendar 2.0//EN
METHOD:PUBLISH
X-PUBLISHED-TTL:P3D
REFRESH-INTERVAL:P3D
CALSCALE:GREGORIAN
BEGIN:VEVENT
DTSTART:20221030T010000Z
DTEND:20221030T050000Z
X-MICROSOFT-CDO-ALLDAYEVENT:FALSE
SUMMARY:Mayor's Ball 2022
DESCRIPTION:The Fountain Valley Chamber of Commerce proudly presents the 2022 RETRO Mayor's Ball. A long-standing tradition\, honoring Mayor Patrick Harper & the Fountain Valley City Council.
X-ALT-DESC;FMTTYPE=text/html:<span style="font-family:times new roman\;"><span style="font-size:24px\;"><span style="color:#000080\;"><strong>The Fountain Valley Chamber of Commerce proudly presents the 2022 RETRO Mayor&#39\;s Ball. A long-standing tradition\, honoring Mayor Patrick Harper &amp\; the Fountain Valley City Council.</strong></span></span></span>
LOCATION:Founders Village 17967 Bushard St.\, Fountain Valley\, CA 92708
UID:e.2030.5865
SEQUENCE:3
DTSTAMP:20260420T102654Z
URL:http://business.fvchamber.com/events/details/mayor-s-ball-2022-5865
END:VEVENT

END:VCALENDAR
