BEGIN:VCALENDAR
VERSION:2.0
PRODID:-//ChamberMaster//Event Calendar 2.0//EN
METHOD:PUBLISH
X-PUBLISHED-TTL:P3D
REFRESH-INTERVAL:P3D
CALSCALE:GREGORIAN
BEGIN:VEVENT
DTSTART:20211107T010000Z
DTEND:20211107T053000Z
X-MICROSOFT-CDO-ALLDAYEVENT:FALSE
SUMMARY:Mayor's Ball 2021
DESCRIPTION:The Fountain Valley Chamber of Commerce is proud to present the 2021 Mayor's Ball. A long-standing Cultural Tradition\, honoring Mayor Michael Vo & The Fountain Valley City Council.
X-ALT-DESC;FMTTYPE=text/html:<span style="color:#FF8C00\;"><span style="font-size:22px\;"><span style="font-family:verdana\;"><strong>The Fountain Valley Chamber of Commerce is proud to present the 2021 Mayor&#39\;s Ball. A long-standing Cultural Tradition\, honoring Mayor Michael Vo &amp\; The Fountain Valley City Council.</strong></span></span></span>
LOCATION:Founders Village 17967 Bushard St\, Fountain Valley\, CA 92708
UID:e.2030.5400
SEQUENCE:3
DTSTAMP:20260421T050612Z
URL:http://business.fvchamber.com/events/details/mayor-s-ball-2021-5400
END:VEVENT

END:VCALENDAR
