BEGIN:VCALENDAR
VERSION:2.0
PRODID:-//ChamberMaster//Event Calendar 2.0//EN
METHOD:PUBLISH
X-PUBLISHED-TTL:P3D
REFRESH-INTERVAL:P3D
CALSCALE:GREGORIAN
BEGIN:VEVENT
DTSTART:20200229T170000Z
DTEND:20200229T174500Z
X-MICROSOFT-CDO-ALLDAYEVENT:FALSE
SUMMARY:Masuda Middle School Open House
DESCRIPTION:Join us to see the success of Measure O.\n\nThank you to our Community for your continued support of our students\, staff\, and schools!
X-ALT-DESC;FMTTYPE=text/html:<span style="font-size:16px\;"><strong><span style="color:#008080\;"><span style="font-family:comic sans ms\;">Join us to see the success of Measure O.<br />\nThank you to our Community for your continued support of our students\, staff\, and schools!</span></span></strong></span>
LOCATION:Masuda Middle School 17415 Los Jardines West Fountain Valley\, CA 92708
UID:e.2030.5292
SEQUENCE:3
DTSTAMP:20260422T174030Z
URL:http://business.fvchamber.com/events/details/masuda-middle-school-open-house-5292
END:VEVENT

END:VCALENDAR
