BEGIN:VCALENDAR
VERSION:2.0
PRODID:-//ChamberMaster//Event Calendar 2.0//EN
METHOD:PUBLISH
X-PUBLISHED-TTL:P3D
REFRESH-INTERVAL:P3D
CALSCALE:GREGORIAN
BEGIN:VEVENT
DTSTART:20211006T190000Z
DTEND:20211006T200000Z
X-MICROSOFT-CDO-ALLDAYEVENT:FALSE
SUMMARY:Marketing Budgets And Spend
DESCRIPTION:This workshop is designed to provide you with the tools and knowledge to produce a comprehensive marketing budget.\n\nThe goal is to fully understand your priorities as to the marketing spend and the resources required to achieve your\n\nmarketing goals. A marketing budget template (attached) will be provided to you for your own modeling.\n\nFeatured Topics:\n\n  Definitions of various spend categories\n\n  Alignment of staffing and other resources\n\n- Allocation of spend dollars\n\n  Actual to Budget variances and how to adjust the budget\n\n  Roll forward from actual spend?
X-ALT-DESC;FMTTYPE=text/html:<p style="margin-top: 0px\; margin-bottom: 10px\; line-height: 23.2px\; font-family: Lato\, Arial\, Helvetica\, sans-serif\; font-size: 16px\;">This workshop is designed to provide you with the tools and knowledge to produce a comprehensive marketing budget.</p>\n\n<p style="margin-top: 0px\; margin-bottom: 10px\; line-height: 23.2px\; font-family: Lato\, Arial\, Helvetica\, sans-serif\; font-size: 16px\;">The goal is to fully understand your priorities as to the marketing spend and the resources required to achieve your</p>\n\n<p style="margin-top: 0px\; margin-bottom: 10px\; line-height: 23.2px\; font-family: Lato\, Arial\, Helvetica\, sans-serif\; font-size: 16px\;">marketing goals. A marketing budget template (attached) will be provided to you for your own modeling.</p>\n\n<p style="margin-top: 0px\; margin-bottom: 10px\; line-height: 23.2px\; font-family: Lato\, Arial\, Helvetica\, sans-serif\; font-size: 16px\;"><strong>Featured Topics:</strong></p>\n\n<p style="margin-top: 0px\; margin-bottom: 10px\; line-height: 23.2px\; font-family: Lato\, Arial\, Helvetica\, sans-serif\; font-size: 16px\;">&middot\; Definitions of various spend categories<br />\n&middot\; Alignment of&nbsp\;staffing and other resources</p>\n\n<p style="margin-top: 0px\; margin-bottom: 10px\; line-height: 23.2px\; font-family: Lato\, Arial\, Helvetica\, sans-serif\; font-size: 16px\;">- Allocation of spend dollars<br />\n&middot\; Actual to Budget variances and how to adjust the budget<br />\n&middot\; Roll forward from actual spend?</p>\n
LOCATION:Zoom
UID:e.2030.5392
SEQUENCE:3
DTSTAMP:20260421T065237Z
URL:http://business.fvchamber.com/events/details/marketing-budgets-and-spend-5392
END:VEVENT

END:VCALENDAR
