BEGIN:VCALENDAR
VERSION:2.0
PRODID:-//ChamberMaster//Event Calendar 2.0//EN
METHOD:PUBLISH
X-PUBLISHED-TTL:P3D
REFRESH-INTERVAL:P3D
CALSCALE:GREGORIAN
BEGIN:VEVENT
DTSTART:20211007T010000Z
DTEND:20211007T023000Z
X-MICROSOFT-CDO-ALLDAYEVENT:FALSE
SUMMARY:Marketing 101: Strategies for Small Businesses
DESCRIPTION:An effective marketing plan can help you increase your sales and profitability while efficiently managing your marketing dollars. Understanding your customers and how to reach them with the right message can help you create a plan that makes the most of your time and budget.\nInstructions: In response to COVID-19 public health concerns\, all workshops will be held on ZOOM\, an online video platform\, until further notice. To maintain quality and security during virtual events\, you will be sent a link to join the meeting on the day of the event\, up to 30 minutes prior to the scheduled start time. If you do not receive the link check your spam inbox then call (909)-890-1242 for assistance.
X-ALT-DESC;FMTTYPE=text/html:<div class="conf-desc" style="padding-top: 0px\; padding-bottom: 10px\; font-family: Lato\, Arial\, Helvetica\, sans-serif\; font-size: 16px\;">An effective marketing plan can help you increase your sales and profitability while efficiently managing your marketing dollars. Understanding your customers and how to reach them with the right message can help you create a plan that makes the most of your time and budget.</div>\n<label style="font-weight: bold\; line-height: 20px\; font-family: Lato\, Arial\, Helvetica\, sans-serif\; font-size: 16px\;">Instructions:</label><span style="font-family: Lato\, Arial\, Helvetica\, sans-serif\; font-size: 16px\;">&nbsp\;In response to COVID-19 public health concerns\, all workshops will be held on ZOOM\, an online video platform\, until further notice. To maintain quality and security during virtual events\, you will be sent a link to join the meeting on the day of the event\, up to 30 minutes prior to the scheduled start time. If you do not receive the link check your spam inbox then call (909)-890-1242 for assistance.</span>
LOCATION:Zoom
UID:e.2030.5393
SEQUENCE:3
DTSTAMP:20260421T065713Z
URL:http://business.fvchamber.com/events/details/marketing-101-strategies-for-small-businesses-5393
END:VEVENT

END:VCALENDAR
