BEGIN:VCALENDAR
VERSION:2.0
PRODID:-//ChamberMaster//Event Calendar 2.0//EN
METHOD:PUBLISH
X-PUBLISHED-TTL:P3D
REFRESH-INTERVAL:P3D
CALSCALE:GREGORIAN
BEGIN:VEVENT
DTSTART:20220802T010000Z
DTEND:20220802T023000Z
X-MICROSOFT-CDO-ALLDAYEVENT:FALSE
SUMMARY:Marketing 101
DESCRIPTION:Need marketing assistance? As small business owners\, we wear multiple hats as it is. Adding on additional tasks\, such as marketing\, can seem overwhelming. Marketing can be very complex\, especially if you don't know where to begin. Join this informative webinar full of great tips and resources to help you get started on your marketing efforts.
X-ALT-DESC;FMTTYPE=text/html:<div class="usa-prose" style="box-sizing: inherit\; font-size: 1.06rem\; line-height: 1.5\; font-family: &quot\;Source Sans Pro Web&quot\;\, &quot\;Helvetica Neue&quot\;\, Helvetica\, Roboto\, Arial\, sans-serif\; color: rgb(27\, 27\, 27)\; background-color: rgb(255\, 255\, 255)\;">\n<div class="field__item" style="box-sizing: inherit\;">\n<p style="box-sizing: inherit\; font-size: 18px\;">Need marketing assistance? As small business owners\, we wear multiple hats as it is. Adding on additional tasks\, such as marketing\, can seem overwhelming. Marketing can be very complex\, especially if you don&#39\;t know where to begin. Join this informative webinar full of great&nbsp\;tips and resources to help you get started on your marketing efforts.</p>\n</div>\n</div>\n
LOCATION:Zoom
UID:e.2030.5600
SEQUENCE:3
DTSTAMP:20260420T141232Z
URL:http://business.fvchamber.com/events/details/marketing-101-5600
END:VEVENT

END:VCALENDAR
