BEGIN:VCALENDAR
VERSION:2.0
PRODID:-//ChamberMaster//Event Calendar 2.0//EN
METHOD:PUBLISH
X-PUBLISHED-TTL:P3D
REFRESH-INTERVAL:P3D
CALSCALE:GREGORIAN
BEGIN:VEVENT
DTSTART:20150924T233000Z
DTEND:20150925T033000Z
X-MICROSOFT-CDO-ALLDAYEVENT:FALSE
SUMMARY:Market in the Park
DESCRIPTION:Fountain Valley Market in the Park\n\n\n	Certified Farmer's Market\n	Food Truck Frenzy\n	Free Parking\n	Kids' Activities \n	Vendor Village\n\nOpen Seasonally April 30th through September 24th.\n\n\n\nFor more information on the market\, or to apply to become a vendor\, please direct all emails to Mary Anne at marketinthepark@verizon.net.
X-ALT-DESC;FMTTYPE=text/html:<br />\n<strong><span style="font-size:18px\;">Fountain Valley&nbsp\;Market in the Park</span></strong>\n\n<ul>\n	<li>Certified Farmer&#39\;s Market</li>\n	<li>Food Truck Frenzy</li>\n	<li>Free Parking</li>\n	<li>Kids&#39\; Activities&nbsp\;</li>\n	<li>Vendor Village</li>\n</ul>\nOpen Seasonally April 30th&nbsp\;through September 24th.<br />\n<br />\n<strong>For more information on the market\, or to apply to become a vendor\, please direct all emails to Mary Anne at <a href="mailto:marketinthepark@verizon.net?subject=Market%20in%20the%20Park">marketinthepark@verizon.net</a>.</strong><br />\n<br />\n&nbsp\;<br />\n&nbsp\;
LOCATION:Fountain Valley Recreation Center (northwest parking lot adjacent to the Rec Center) 16400 Brookhurst Street Fountain Valley\, CA 92708
UID:e.2030.1724
SEQUENCE:3
DTSTAMP:20260426T030557Z
URL:http://business.fvchamber.com/events/details/market-in-the-park-09-24-2015-1724
END:VEVENT

END:VCALENDAR
