BEGIN:VCALENDAR
VERSION:2.0
PRODID:-//ChamberMaster//Event Calendar 2.0//EN
METHOD:PUBLISH
X-PUBLISHED-TTL:P3D
REFRESH-INTERVAL:P3D
CALSCALE:GREGORIAN
BEGIN:VEVENT
DTSTART:20220505T170000Z
DTEND:20220505T180000Z
X-MICROSOFT-CDO-ALLDAYEVENT:FALSE
SUMMARY:Managing your business by the numbers
DESCRIPTION:Attend this insightful seminar\, presented by Yusef Muhammad an Award Winning Business Executive. This intensive discussion will help you understand and use your company's financials to Manage Your Business By The Numbers. Learn how to get funded using alternative lending options including CDFI's\, microloans\, SBA's loan guarantee program\, loan vs investment\, venture capital\, crowdfunding\, and online lenders.
X-ALT-DESC;FMTTYPE=text/html:<span style="color: rgb(43\, 55\, 77)\; font-family: ModernSans\, Arial\, Helvetica\, sans-serif\; font-size: 16px\; background-color: rgb(255\, 255\, 255)\;">Attend this insightful seminar\, presented by Yusef Muhammad an Award Winning Business Executive. This intensive discussion will help you understand and use your company&#39\;s financials to Manage Your Business By The Numbers. Learn how to get funded using alternative lending options including CDFI&rsquo\;s\, microloans\, SBA&rsquo\;s loan guarantee program\, loan vs investment\, venture capital\, crowdfunding\, and online lenders.</span>
LOCATION:Zoom
UID:e.2030.5580
SEQUENCE:3
DTSTAMP:20260420T185610Z
URL:http://business.fvchamber.com/events/details/managing-your-business-by-the-numbers-5580
END:VEVENT

END:VCALENDAR
