BEGIN:VCALENDAR
VERSION:2.0
PRODID:-//ChamberMaster//Event Calendar 2.0//EN
METHOD:PUBLISH
X-PUBLISHED-TTL:P3D
REFRESH-INTERVAL:P3D
CALSCALE:GREGORIAN
BEGIN:VEVENT
DTSTART:20220625T170000Z
DTEND:20220626T060000Z
X-MICROSOFT-CDO-ALLDAYEVENT:FALSE
SUMMARY:Lofty Learning Studios Ribbon Cutting
DESCRIPTION:Join us in celebrating Lofty Learning Studios Opening!
X-ALT-DESC;FMTTYPE=text/html:Join us in celebrating Lofty Learning Studios Opening!
LOCATION:9525 Garfield Ave. Suite B Fountain Valley\, CA 92708
UID:e.2030.5598
SEQUENCE:3
DTSTAMP:20260420T185112Z
URL:http://business.fvchamber.com/events/details/lofty-learning-studios-ribbon-cutting-5598
END:VEVENT

END:VCALENDAR
