BEGIN:VCALENDAR
VERSION:2.0
PRODID:-//ChamberMaster//Event Calendar 2.0//EN
METHOD:PUBLISH
X-PUBLISHED-TTL:P3D
REFRESH-INTERVAL:P3D
CALSCALE:GREGORIAN
BEGIN:VEVENT
DTSTART:20200104T220000Z
DTEND:20200105T000000Z
X-MICROSOFT-CDO-ALLDAYEVENT:FALSE
SUMMARY:Let There Be Rock School Presents: Recording Studio Opening Day
DESCRIPTION:Join the Fountain Valley Chamber of Commerce as we join Let There Be Rock School at their Recording Studio Grand Opening. You can enjoy the camaraderie\, music\, and the atmosphere. You can have the chance to record a song and be in the same studio of a Grammy Award Winning Producer. Hope to see you there!
X-ALT-DESC;FMTTYPE=text/html:<strong><span style="color:#B22222\;"><span style="font-family:verdana\;"><span style="font-size:16px\;">Join the Fountain Valley Chamber of Commerce as we join Let There Be Rock School at their Recording Studio Grand Opening. You can enjoy the camaraderie\, music\, and the atmosphere. You can have the chance to record a song and be in the same studio of a Grammy Award Winning Producer. Hope to see you there!</span></span></span></strong>
LOCATION:Let There Be Rock School 8740 Warner Ave. Fountain Valley\, CA 92708
UID:e.2030.5284
SEQUENCE:3
DTSTAMP:20260422T205055Z
URL:http://business.fvchamber.com/events/details/let-there-be-rock-school-presents-recording-studio-opening-day-5284
END:VEVENT

END:VCALENDAR
