BEGIN:VCALENDAR
VERSION:2.0
PRODID:-//ChamberMaster//Event Calendar 2.0//EN
METHOD:PUBLISH
X-PUBLISHED-TTL:P3D
REFRESH-INTERVAL:P3D
CALSCALE:GREGORIAN
BEGIN:VEVENT
DTSTART:20220430T180000Z
DTEND:20220430T220000Z
X-MICROSOFT-CDO-ALLDAYEVENT:FALSE
SUMMARY:Let There Be Rock School Grand Opening
DESCRIPTION:Please join us to help celebrate Let There Rock School's Grand Opening!!
X-ALT-DESC;FMTTYPE=text/html:<span style="font-size:20px\;"><span style="color:#0000CD\;"><strong>Please join us to help celebrate Let There Rock School&#39\;s Grand Opening!!</strong></span></span>
LOCATION:18167 Euclid St. Fountain Valley\, CA 92708
UID:e.2030.5577
SEQUENCE:3
DTSTAMP:20260420T203509Z
URL:http://business.fvchamber.com/events/details/let-there-be-rock-school-grand-opening-5577
END:VEVENT

END:VCALENDAR
