BEGIN:VCALENDAR
VERSION:2.0
PRODID:-//ChamberMaster//Event Calendar 2.0//EN
METHOD:PUBLISH
X-PUBLISHED-TTL:P3D
REFRESH-INTERVAL:P3D
CALSCALE:GREGORIAN
BEGIN:VEVENT
DTSTART;VALUE=DATE:20170512
DTEND;VALUE=DATE:20170513
TRANSP:TRANSPARENT
X-MICROSOFT-CDO-ALLDAYEVENT:TRUE
SUMMARY:Legislative Breakfast Sponsorship Opportunities
DESCRIPTION:Join local business leaders and elected state and city officials to learn about pending legislative issues that could impact the business community. \n\n\n\nSponsorship Opportunities: \n\n\n\n*Title Sponsor- $3\,000\n\n*Platinum Sponsor -  $2\,000\n\n*Gold Sponsor - $1\,500\n\n*Silver Sponsor - $500.00\n\n*Bronze Sponsor - $250
X-ALT-DESC;FMTTYPE=text/html:Join local business leaders and elected state and city officials to learn about pending legislative issues that could impact the business community.&nbsp\;<br />\n<br />\nSponsorship Opportunities:&nbsp\;<br />\n<br />\n*Title Sponsor- $3\,000<br />\n*Platinum Sponsor - &nbsp\;$2\,000<br />\n*Gold Sponsor - $1\,500<br />\n*Silver Sponsor - $500.00<br />\n*Bronze Sponsor - $250
LOCATION:Mile Square Golf Course Banquet Room 10401 Warner Ave Fountain Valley\, CA 92708
UID:e.2030.3880
SEQUENCE:3
DTSTAMP:20260424T213733Z
URL:http://business.fvchamber.com/events/details/legislative-breakfast-sponsorship-opportunities-3880
END:VEVENT

END:VCALENDAR
