BEGIN:VCALENDAR
VERSION:2.0
PRODID:-//ChamberMaster//Event Calendar 2.0//EN
METHOD:PUBLISH
X-PUBLISHED-TTL:P3D
REFRESH-INTERVAL:P3D
CALSCALE:GREGORIAN
BEGIN:VEVENT
DTSTART:20160610T150000Z
DTEND:20160610T163000Z
X-MICROSOFT-CDO-ALLDAYEVENT:FALSE
SUMMARY:Legislative Breakfast
DESCRIPTION:Legislative Breakfast\n\nNetwork with business leaders\, elected officials and key staff at the Fountain Valley Chamber of Commerce Legislative Breakfast as we lead\, advocate and connect as the Trusted Voice of Business.
X-ALT-DESC;FMTTYPE=text/html:<span style="font-size:18px\;"><span style="color:#B22222\;"><strong>Legislative Breakfast</strong></span></span><br />\nNetwork with business leaders\, elected officials and key staff at the Fountain Valley Chamber of Commerce Legislative Breakfast as we lead\, advocate and connect as the <em>Trusted Voice of Business</em>.
LOCATION:Mile Square Golf Course Banquet Room 10401 Warner Ave. Fountain Valley
UID:e.2030.2325
SEQUENCE:3
DTSTAMP:20260425T141528Z
URL:http://business.fvchamber.com/events/details/legislative-breakfast-06-10-2016-2325
END:VEVENT

END:VCALENDAR
