BEGIN:VCALENDAR
VERSION:2.0
PRODID:-//ChamberMaster//Event Calendar 2.0//EN
METHOD:PUBLISH
X-PUBLISHED-TTL:P3D
REFRESH-INTERVAL:P3D
CALSCALE:GREGORIAN
BEGIN:VEVENT
DTSTART:20200414T190000Z
DTEND:20200414T203000Z
X-MICROSOFT-CDO-ALLDAYEVENT:FALSE
SUMMARY:"Legal Structures for Small Business" Workshop
DESCRIPTION:Free Member Event ....\n\nOne of the first decisions you'll have to make as a business owner\, is how the company will be structured.  Come and learn more about the Legal formations available to startups\, including: LLC's\, S Corporations\, C Corporations\, and DBA's.\n\n\n\nRegister for free\, using the link below:\n\nhttps://orangecountysbdc.org/events/legal-structure-3/
X-ALT-DESC;FMTTYPE=text/html:<strong><span style="font-family: arial\;"><em><span style="color: rgb(0\, 128\, 128)\;"><span style="font-size: 18px\;">Free Member Event ....</span></span></em></span></strong><br />\n<strong><span style="color:#4B0082\;">One of the first decisions you&#39\;ll have to make as a business owner\, is how the company will be structured.&nbsp\; Come and learn more about the Legal formations available to startups\, including: LLC&#39\;s\, S Corporations\, C Corporations\, and DBA&#39\;s.</span></strong><br />\n<br />\n<span style="font-size:14px\;">Register for free\, using the link below:</span><br />\n<a href="https://orangecountysbdc.org/events/legal-structure-3/">https://orangecountysbdc.org/events/legal-structure-3/</a><br />\n<br />\n&nbsp\;
LOCATION:America's SBDC - OC/IE Network The Digital Media Center 1300 S. Bristol Street Santa Ana\, CA 92704
UID:e.2030.5299
SEQUENCE:3
DTSTAMP:20260422T143118Z
URL:http://business.fvchamber.com/events/details/legal-structures-for-small-business-workshop-5299
END:VEVENT

END:VCALENDAR
