BEGIN:VCALENDAR
VERSION:2.0
PRODID:-//ChamberMaster//Event Calendar 2.0//EN
METHOD:PUBLISH
X-PUBLISHED-TTL:P3D
REFRESH-INTERVAL:P3D
CALSCALE:GREGORIAN
BEGIN:VEVENT
DTSTART:20220208T200000Z
DTEND:20220208T210000Z
X-MICROSOFT-CDO-ALLDAYEVENT:FALSE
SUMMARY:Legal and Business Considerations When Negotiating a Master Services Agreement
DESCRIPTION:All parties involved with a Master Services Agreement may benefit from a better understanding of the legal and business considerations involved with negotiations of such an agreement. Join San Diego Attorney April Wurster for an overview of a Master Services Agreement\, where she will lead an evaluation and discussion of common provisions\, alternative approaches\, and drafting and negotiating tips.\n\nSpeaker Bio:\n\nApril Wurster is an attorney in the San Diego office of Snell & Wilmer. She focuses her practice on intellectual property and corporate transactions. As a former in-house attorney\, April takes a practical approach to contract review and negotiation with a focus on business objectives.
X-ALT-DESC;FMTTYPE=text/html:All parties involved with a Master Services Agreement may benefit from a better understanding of the legal and business considerations involved with negotiations of such an agreement. Join San Diego Attorney April Wurster for an overview of a Master Services Agreement\, where she will lead an evaluation and discussion of common provisions\, alternative approaches\, and drafting and negotiating tips.<br />\nSpeaker Bio:<br />\nApril Wurster is an attorney in the San Diego office of Snell &amp\; Wilmer. She focuses her practice on intellectual property and corporate transactions. As a former in-house attorney\, April takes a practical approach to contract review and negotiation with a focus on business objectives.&nbsp\;
LOCATION:Zoom
UID:e.2030.5565
SEQUENCE:3
DTSTAMP:20260421T013234Z
URL:http://business.fvchamber.com/events/details/legal-and-business-considerations-when-negotiating-a-master-services-agreement-5565
END:VEVENT

END:VCALENDAR
