BEGIN:VCALENDAR
VERSION:2.0
PRODID:-//ChamberMaster//Event Calendar 2.0//EN
METHOD:PUBLISH
X-PUBLISHED-TTL:P3D
REFRESH-INTERVAL:P3D
CALSCALE:GREGORIAN
BEGIN:VEVENT
DTSTART:20230602T163000Z
DTEND:20230602T190000Z
X-MICROSOFT-CDO-ALLDAYEVENT:FALSE
SUMMARY:Lake Forest Job Fair
DESCRIPTION:City of Lake Forest Job Fair\n\nIf you're interested in hosting a FREE Booth\, please email info@lakeforestCAchamber.com
X-ALT-DESC;FMTTYPE=text/html:City of Lake Forest Job Fair<br />\nIf you&#39\;re interested in hosting a FREE Booth\, please email info@lakeforestCAchamber.com
LOCATION:100 Civic Center Dr. Lake Forest
UID:e.2030.6179
SEQUENCE:3
DTSTAMP:20260419T210647Z
URL:http://business.fvchamber.com/events/details/lake-forest-job-fair-6179
END:VEVENT

END:VCALENDAR
