BEGIN:VCALENDAR
VERSION:2.0
PRODID:-//ChamberMaster//Event Calendar 2.0//EN
METHOD:PUBLISH
X-PUBLISHED-TTL:P3D
REFRESH-INTERVAL:P3D
CALSCALE:GREGORIAN
BEGIN:VEVENT
DTSTART;VALUE=DATE:20180903
DTEND;VALUE=DATE:20180904
TRANSP:TRANSPARENT
X-MICROSOFT-CDO-ALLDAYEVENT:TRUE
SUMMARY:Labor Day Holiday
DESCRIPTION:Labor Day Holiday\n\nOffice is Closed
X-ALT-DESC;FMTTYPE=text/html:Labor Day Holiday<br />\nOffice is Closed
LOCATION:
UID:e.2030.4383
SEQUENCE:3
DTSTAMP:20260423T191043Z
URL:http://business.fvchamber.com/events/details/labor-day-holiday-4383
END:VEVENT

END:VCALENDAR
