BEGIN:VCALENDAR
VERSION:2.0
PRODID:-//ChamberMaster//Event Calendar 2.0//EN
METHOD:PUBLISH
X-PUBLISHED-TTL:P3D
REFRESH-INTERVAL:P3D
CALSCALE:GREGORIAN
BEGIN:VEVENT
DTSTART:20200111T180000Z
DTEND:20200111T190000Z
X-MICROSOFT-CDO-ALLDAYEVENT:FALSE
SUMMARY:KS Master Brow 2 Lash (Ribbon Cutting)
DESCRIPTION:Join the Fountain Valley Chamber of Commerce as we welcome our newest member to our city. Food & Drinks will be provided.
X-ALT-DESC;FMTTYPE=text/html:<strong><span style="color:#DAA520\;"><span style="font-family:verdana\;"><span style="font-size:16px\;">Join the Fountain Valley Chamber of Commerce as we welcome our newest member to our city. Food &amp\; Drinks will be provided.</span></span></span></strong>
LOCATION:18601 Brookhurst St. Fountain Valley\, CA 92708
UID:e.2030.5285
SEQUENCE:3
DTSTAMP:20260422T192159Z
URL:http://business.fvchamber.com/events/details/ks-master-brow-2-lash-ribbon-cutting-5285
END:VEVENT

END:VCALENDAR
