BEGIN:VCALENDAR
VERSION:2.0
PRODID:-//ChamberMaster//Event Calendar 2.0//EN
METHOD:PUBLISH
X-PUBLISHED-TTL:P3D
REFRESH-INTERVAL:P3D
CALSCALE:GREGORIAN
BEGIN:VEVENT
DTSTART:20170903T000000Z
DTEND:20170903T040000Z
X-MICROSOFT-CDO-ALLDAYEVENT:FALSE
SUMMARY:Kelly Osborn Memorial Fundraiser
DESCRIPTION:22nd Annual\n\nKelly Osborn Memorial Fundtaiser
X-ALT-DESC;FMTTYPE=text/html:<span style="font-size:14px\;"><em><strong>22nd Annual</strong></em></span><br />\n<span style="font-size:16px\;"><strong>Kelly Osborn Memorial Fundtaiser</strong></span>
LOCATION:Fountain Bowl 17110 Brookhurst St. Fountain Valley
UID:e.2030.4219
SEQUENCE:3
DTSTAMP:20260424T142353Z
URL:http://business.fvchamber.com/events/details/kelly-osborn-memorial-fundraiser-4219
END:VEVENT

END:VCALENDAR
