BEGIN:VCALENDAR
VERSION:2.0
PRODID:-//ChamberMaster//Event Calendar 2.0//EN
METHOD:PUBLISH
X-PUBLISHED-TTL:P3D
REFRESH-INTERVAL:P3D
CALSCALE:GREGORIAN
BEGIN:VEVENT
DTSTART;VALUE=DATE:20150905
DTEND;VALUE=DATE:20150906
TRANSP:TRANSPARENT
X-MICROSOFT-CDO-ALLDAYEVENT:TRUE
SUMMARY:Kelly Osborn Memorial Fundraiser
DESCRIPTION:The 20th Annual\n\nKelly Osborn Memorial Fundraiser
X-ALT-DESC;FMTTYPE=text/html:<span style="font-size:16px\;"><strong><em>The 20th Annual</em><br />\nKelly Osborn Memorial Fundraiser</strong></span>
LOCATION:Fountain Bowl 17110 Brookhurst St. Fountain Valley\, CA 92708
UID:e.2030.2157
SEQUENCE:3
DTSTAMP:20260426T030430Z
URL:http://business.fvchamber.com/events/details/kelly-osborn-memorial-fundraiser-09-05-2015-2157
END:VEVENT

END:VCALENDAR
