BEGIN:VCALENDAR
VERSION:2.0
PRODID:-//ChamberMaster//Event Calendar 2.0//EN
METHOD:PUBLISH
X-PUBLISHED-TTL:P3D
REFRESH-INTERVAL:P3D
CALSCALE:GREGORIAN
BEGIN:VEVENT
DTSTART:20210622T190000Z
DTEND:20210622T200000Z
X-MICROSOFT-CDO-ALLDAYEVENT:FALSE
SUMMARY:June Chamber Luncheon
DESCRIPTION:Join us for an incredible afternoon with Motivational Speaker\, Ericka Kelly\, Networking & a Free Drawing.  \n\n\n\nWho is Ericka Kelly??\n\n	Retired US Air Force Command Chief Master Sergeant\n	Federal Law Enforcement -- DHS/DOJ | Senior Special Agent\n	Leadership Expert\, Executive Coach\, and Professional Speaker\n\nShe is an incredible immigrant woman who overcame adversity and worked her way to the top levels of the U.S. Department of Homeland Security.  Hers is a story of hard-work and determination\, and exemplifies the immense power of believing in oneself.
X-ALT-DESC;FMTTYPE=text/html:<span style="font-size:20px\;"><span style="font-family:verdana\;"><strong>Join us for an incredible afternoon with Motivational Speaker\, Ericka Kelly\, Networking &amp\; a Free Drawing.&nbsp\;&nbsp\;</strong></span></span><br />\n<br />\nWho is Ericka Kelly??\n<ul>\n	<li><span style="font-family:calibri\,sans-serif\;"><span style="font-size:11.0pt\;">Retired US Air Force Command Chief Master Sergeant</span></span></li>\n	<li><span style="font-family:calibri\,sans-serif\;"><span style="font-size:11.0pt\;">Federal Law Enforcement -- DHS/DOJ | Senior Special Agent</span></span></li>\n	<li><span style="font-family:calibri\,sans-serif\;"><span style="font-size:11.0pt\;">Leadership Expert\, Executive Coach\, and Professional Speaker</span></span></li>\n</ul>\n<span style="font-family:calibri\,sans-serif\;"><span style="font-size:11.0pt\;">She is an incredible immigrant woman who overcame adversity and worked her way to the top levels of the U.S. Department of Homeland Security.&nbsp\; Hers is a story of hard-work and determination\, and exemplifies the immense power of believing in oneself. </span></span><br />\n<br />\n&nbsp\;
LOCATION:Heritage Park
UID:e.2030.5359
SEQUENCE:3
DTSTAMP:20260421T141726Z
URL:http://business.fvchamber.com/events/details/june-chamber-luncheon-5359
END:VEVENT

END:VCALENDAR
