BEGIN:VCALENDAR
VERSION:2.0
PRODID:-//ChamberMaster//Event Calendar 2.0//EN
METHOD:PUBLISH
X-PUBLISHED-TTL:P3D
REFRESH-INTERVAL:P3D
CALSCALE:GREGORIAN
BEGIN:VEVENT
DTSTART:20220616T180000Z
DTEND:20220616T190000Z
X-MICROSOFT-CDO-ALLDAYEVENT:FALSE
SUMMARY:June 2022 Economic and Financial Update
DESCRIPTION:With the growing uncertainty in the markets and the economy\, Chris Schwartz with the UCI Center of Investment and Wealth Management reached out to me yesterday to broadcast an Econ and Markets Flash Update this Thursday at 11:00 am by Zoom.
X-ALT-DESC;FMTTYPE=text/html:<span style="font-family:calibri\,sans-serif\;"><span style="font-size:11.0pt\;">With the growing uncertainty in the markets and the economy\, Chris Schwartz with the UCI Center of Investment and Wealth Management reached out to me yesterday to broadcast an Econ and Markets Flash Update this Thursday at 11:00 am by Zoom.&nbsp\;&nbsp\;</span></span>
LOCATION:Zoom
UID:e.2030.5599
SEQUENCE:3
DTSTAMP:20260420T185610Z
URL:http://business.fvchamber.com/events/details/june-2022-economic-and-financial-update-5599
END:VEVENT

END:VCALENDAR
