BEGIN:VCALENDAR
VERSION:2.0
PRODID:-//ChamberMaster//Event Calendar 2.0//EN
METHOD:PUBLISH
X-PUBLISHED-TTL:P3D
REFRESH-INTERVAL:P3D
CALSCALE:GREGORIAN
BEGIN:VEVENT
DTSTART:20210610T183000Z
DTEND:20210610T193000Z
X-MICROSOFT-CDO-ALLDAYEVENT:FALSE
SUMMARY:June 2021 Economic and Financial Forecast
DESCRIPTION:Join us On June 10th at 11:30 AM to hear Chris Schwarz's latest thoughts on the economy and financial markets as the economy prepares to reopen! This Webinar is free for all and brought to you by UCI's Paul Merage School of Business and Center for Investment and Wealth Management as well as the Newport Beach Chamber of Commerce\, the Greater Irvine Chamber of Commerce\, and over 25 other co-sponsoring chambers.
X-ALT-DESC;FMTTYPE=text/html:<strong><span style="font-size:16px\;"><span style="font-family:verdana\;">Join us On June 10th at 11:30 AM to hear Chris Schwarz&#39\;s latest thoughts on the economy and financial markets as the economy prepares to reopen! This Webinar is free for all and brought to you by UCI&#39\;s Paul Merage School of Business and Center for Investment and Wealth Management as well as the Newport Beach Chamber of Commerce\, the Greater Irvine Chamber of Commerce\, and over 25 other co-sponsoring chambers.</span></span></strong>
LOCATION:On Zoom\, Register in Advance Here: https://uci.zoom.us/webinar/register/WN_ynMiem1dQDukjB5dQMcXag
UID:e.2030.5358
SEQUENCE:3
DTSTAMP:20260421T160305Z
URL:http://business.fvchamber.com/events/details/june-2021-economic-and-financial-forecast-5358
END:VEVENT

END:VCALENDAR
