BEGIN:VCALENDAR
VERSION:2.0
PRODID:-//ChamberMaster//Event Calendar 2.0//EN
METHOD:PUBLISH
X-PUBLISHED-TTL:P3D
REFRESH-INTERVAL:P3D
CALSCALE:GREGORIAN
BEGIN:VEVENT
DTSTART;VALUE=DATE:20180704
DTEND;VALUE=DATE:20180705
TRANSP:TRANSPARENT
X-MICROSOFT-CDO-ALLDAYEVENT:TRUE
SUMMARY:July 4th Holiday
DESCRIPTION:July 4th Holiday\n\nOffice is Closed
X-ALT-DESC;FMTTYPE=text/html:July 4th Holiday<br />\nOffice is Closed
LOCATION:
UID:e.2030.4382
SEQUENCE:3
DTSTAMP:20260423T221017Z
URL:http://business.fvchamber.com/events/details/july-4th-holiday-4382
END:VEVENT

END:VCALENDAR
