BEGIN:VCALENDAR
VERSION:2.0
PRODID:-//ChamberMaster//Event Calendar 2.0//EN
METHOD:PUBLISH
X-PUBLISHED-TTL:P3D
REFRESH-INTERVAL:P3D
CALSCALE:GREGORIAN
BEGIN:VEVENT
DTSTART:20190111T153000Z
DTEND:20190111T170000Z
X-MICROSOFT-CDO-ALLDAYEVENT:FALSE
SUMMARY:Juice Up Your Morning Community Breakfast
DESCRIPTION:Juice Up Your Morning Community Breakfast\n\n405 Freeway Update\n\nPresented by: Orange County Transportation Authority\n\n\n\nFrom the City: Economic Development Update by Maggie Le\, Assistant to the City Manager
X-ALT-DESC;FMTTYPE=text/html:<span style="font-size:18px\;"><strong>Juice Up Your Morning Community Breakfast</strong></span><br />\n<span style="font-size:20px\;">405 Freeway Update</span><br />\nPresented by: Orange County Transportation Authority<br />\n<br />\nFrom the City: Economic Development Update by Maggie Le\, Assistant to the City Manager
LOCATION:Ayres Hotel 17550 Brookhurst St\, Fountain Valley\, CA 92708
UID:e.2030.3905
SEQUENCE:3
DTSTAMP:20260423T132309Z
URL:http://business.fvchamber.com/events/details/juice-up-your-morning-community-breakfast-3905
END:VEVENT

END:VCALENDAR
