BEGIN:VCALENDAR
VERSION:2.0
PRODID:-//ChamberMaster//Event Calendar 2.0//EN
METHOD:PUBLISH
X-PUBLISHED-TTL:P3D
REFRESH-INTERVAL:P3D
CALSCALE:GREGORIAN
BEGIN:VEVENT
DTSTART:20170616T143000Z
DTEND:20170616T160000Z
X-MICROSOFT-CDO-ALLDAYEVENT:FALSE
SUMMARY:Juice Up Your Morning Community Breakfast
DESCRIPTION:Juice Up Your Morning Community Breakfast
X-ALT-DESC;FMTTYPE=text/html:<span style="font-size:18px\;"><strong>Juice Up Your Morning Community Breakfast</strong></span>
LOCATION:Ayres Hotel 17550 Brookhurst St. Fountain Valley
UID:e.2030.3886
SEQUENCE:3
DTSTAMP:20260424T184719Z
URL:http://business.fvchamber.com/events/details/juice-up-your-morning-community-breakfast-06-16-2017-3886
END:VEVENT

END:VCALENDAR
