BEGIN:VCALENDAR
VERSION:2.0
PRODID:-//ChamberMaster//Event Calendar 2.0//EN
METHOD:PUBLISH
X-PUBLISHED-TTL:P3D
REFRESH-INTERVAL:P3D
CALSCALE:GREGORIAN
BEGIN:VEVENT
DTSTART:20190427T180000Z
DTEND:20190427T230000Z
X-MICROSOFT-CDO-ALLDAYEVENT:FALSE
SUMMARY:Jubilee in the Park
DESCRIPTION:Jubilee at the Park
X-ALT-DESC;FMTTYPE=text/html:<span style="font-size:16px\;"><strong>Jubilee at the Park</strong></span>
LOCATION:Heritage Park 17641 Los Alamos Fountain Valley
UID:e.2030.5101
SEQUENCE:3
DTSTAMP:20260423T082742Z
URL:http://business.fvchamber.com/events/details/jubilee-in-the-park-5101
END:VEVENT

END:VCALENDAR
