BEGIN:VCALENDAR
VERSION:2.0
PRODID:-//ChamberMaster//Event Calendar 2.0//EN
METHOD:PUBLISH
X-PUBLISHED-TTL:P3D
REFRESH-INTERVAL:P3D
CALSCALE:GREGORIAN
BEGIN:VEVENT
DTSTART:20190526T020000Z
DTEND:20190526T050000Z
X-MICROSOFT-CDO-ALLDAYEVENT:FALSE
SUMMARY:Join Us For An Angel Game
DESCRIPTION:Looking for something to do this Memorial weekend? How About an Angels Game? The City's Angel's game is Saturday\, May 25\, 2019 against the Texas Rangers. The game begins at 7 p.m. and is followed by a fireworks show.\n\n\n\nPlease Contact the city of Fountain Valley\, HR Department at 714-593-4506 to information and to purchase tickets.
X-ALT-DESC;FMTTYPE=text/html:<span style="color:#FF0000\;"><span style="font-family:verdana\;"><span style="font-size:16px\;"><strong>Looking for something to do this Memorial weekend? How About an Angels Game? The City&#39\;s Angel&#39\;s game is Saturday\, May 25\, 2019 against the Texas Rangers. The game begins at 7 p.m. and is followed by a fireworks show.<br />\n<br />\nPlease Contact the city of Fountain Valley\, HR Department at 714-593-4506 to information and to purchase tickets.</strong></span></span></span>
LOCATION:2000 E Gene Autry Way\, Anaheim\, CA 92806
UID:e.2030.5117
SEQUENCE:3
DTSTAMP:20260423T070342Z
URL:http://business.fvchamber.com/events/details/join-us-for-an-angel-game-5117
END:VEVENT

END:VCALENDAR
