BEGIN:VCALENDAR
VERSION:2.0
PRODID:-//ChamberMaster//Event Calendar 2.0//EN
METHOD:PUBLISH
X-PUBLISHED-TTL:P3D
REFRESH-INTERVAL:P3D
CALSCALE:GREGORIAN
BEGIN:VEVENT
DTSTART:20160526T180000Z
DTEND:20160526T200000Z
X-MICROSOFT-CDO-ALLDAYEVENT:FALSE
SUMMARY:Jerome's Furniture Grand Opening / Ribbon Cutting
DESCRIPTION:Jerome's Furniture\n\nGrand Opening / Ribbon Cutting
X-ALT-DESC;FMTTYPE=text/html:<span style="font-size:14px\;"><strong><span style="font-size:16px\;">Jerome&#39\;s Furniture</span><br />\n<em>Grand Opening / Ribbon Cutting</em></strong></span>
LOCATION:
UID:e.2030.2808
SEQUENCE:3
DTSTAMP:20260425T142256Z
URL:http://business.fvchamber.com/events/details/jerome-s-furniture-grand-opening-ribbon-cutting-05-26-2016-2808
END:VEVENT

END:VCALENDAR
