BEGIN:VCALENDAR
VERSION:2.0
PRODID:-//ChamberMaster//Event Calendar 2.0//EN
METHOD:PUBLISH
X-PUBLISHED-TTL:P3D
REFRESH-INTERVAL:P3D
CALSCALE:GREGORIAN
BEGIN:VEVENT
DTSTART:20220111T180000Z
DTEND:20220111T200000Z
X-MICROSOFT-CDO-ALLDAYEVENT:FALSE
SUMMARY:Invincible Leadership: 7 Levels to Developing Your Unfair Advantage
DESCRIPTION:Discover the reasons why top entrepreneurs & business professionals are winning in the world of business today. Learn the secrets to achieving greater success\, in less time\, with less stress. Become what you must to achieve what you love. Learn to take your business to the next level\, become the hero of your own story and make an impact on the world.
X-ALT-DESC;FMTTYPE=text/html:<span style="color: rgb(43\, 55\, 77)\; font-family: ModernSans\, Arial\, Helvetica\, sans-serif\; font-size: 16px\; background-color: rgb(255\, 255\, 255)\;">Discover the reasons why top entrepreneurs &amp\; business professionals are winning in the world of business today. Learn the secrets to achieving greater success\, in less time\, with less stress. Become what you must to achieve what you love. Learn to take your business to the next level\, become the hero of your own story and make an impact on the world.</span>
LOCATION:Online Webinar
UID:e.2030.5413
SEQUENCE:3
DTSTAMP:20260421T014709Z
URL:http://business.fvchamber.com/events/details/invincible-leadership-7-levels-to-developing-your-unfair-advantage-5413
END:VEVENT

END:VCALENDAR
