BEGIN:VCALENDAR
VERSION:2.0
PRODID:-//ChamberMaster//Event Calendar 2.0//EN
METHOD:PUBLISH
X-PUBLISHED-TTL:P3D
REFRESH-INTERVAL:P3D
CALSCALE:GREGORIAN
BEGIN:VEVENT
DTSTART:20220810T200000Z
DTEND:20220813T000000Z
X-MICROSOFT-CDO-ALLDAYEVENT:FALSE
SUMMARY:Invention-Con 2022
DESCRIPTION:If you dream of being a successful innovator\, get ready for the United States Patent and Trademark Office's (USPTO) free\, online conference\, Invention-Con 2022: Inspiring and redefining the innovative mindset\, coming August 10-12 from 1-5 p.m. ET daily. Register for this special event.\n\nJoin us as successful inventors\, accomplished entrepreneurs\, and expert USPTO staff demonstrate how intellectual property protection is key to your success\, share invaluable resources for innovators\, offer tips on business strategy\, and give insights into working with the USPTO to patent your invention or register your trademark.\n\nCheck this page for updates\, including a detailed agenda\, workshop descriptions\, and speaker information as the event approaches.\n\n \n\n\n\n\n\nInvention-Con is the USPTO's annual conference for independent inventors\, entrepreneurs\, and small business owners whose success depends on guarding their creative work. This program is presented by the USPTO's Office of Innovation Outreach. For more information\, please contact inventioncon@uspto.gov.
X-ALT-DESC;FMTTYPE=text/html:<div class="eds-l-mar-vert-6 eds-l-sm-mar-vert-4 eds-text-bm structured-content-rich-text" style="margin: 24px 0px\; padding: 0px\; text-rendering: optimizelegibility\; font-size: 0.875rem\; line-height: 1.25rem\; color: rgb(57\, 54\, 79)\; font-family: &quot\;Neue Plak&quot\;\, -apple-system\, BlinkMacSystemFont\, Roboto\, &quot\;Helvetica Neue&quot\;\, Helvetica\, Tahoma\, Arial\, sans-serif\; letter-spacing: 0.5px\; background-color: rgb(255\, 255\, 255)\;">\n<div class="eds-text--left" style="margin: 0px\; padding: 0px\;">\n<p style="margin: 0px\; padding: 0px\; color: rgb(111\, 114\, 135)\; font-size: 16px\; line-height: 1.5rem\;">If you dream of being a successful innovator\, get ready for the United States Patent and Trademark Office&rsquo\;s (USPTO) free\, online conference\, Invention-Con 2022: Inspiring and redefining the innovative mindset\, coming August 10-12 from 1-5 p.m. ET daily. Register for this special event.</p>\n\n<p style="margin: 0px\; padding: 10px 0px 0px\; color: rgb(111\, 114\, 135)\; font-size: 16px\; line-height: 1.5rem\;">Join us as successful inventors\, accomplished entrepreneurs\, and expert USPTO staff demonstrate how intellectual property protection is key to your success\, share invaluable resources for innovators\, offer tips on business strategy\, and give insights into working with the USPTO to patent your invention or register your trademark.</p>\n\n<p style="margin: 0px\; padding: 10px 0px 0px\; color: rgb(111\, 114\, 135)\; font-size: 16px\; line-height: 1.5rem\;"><a href="https://www.uspto.gov/inventioncon" rel="nofollow noopener noreferrer" style="text-decoration-line: none\; cursor: pointer\; background-color: transparent\; padding-top: 0px\;" target="_blank">Check this page for updates</a>\, including a detailed agenda\, workshop descriptions\, and speaker information as the event approaches.</p>\n\n<p style="margin: 0px\; padding: 10px 0px 0px\; color: rgb(111\, 114\, 135)\; font-size: 16px\; line-height: 1.5rem\;">&nbsp\;</p>\n</div>\n</div>\n\n<div class="eds-l-mar-vert-6 eds-l-sm-mar-vert-4 eds-text-bm structured-content-rich-text" style="margin: 24px 0px\; padding: 0px\; text-rendering: optimizelegibility\; font-size: 0.875rem\; line-height: 1.25rem\; color: rgb(57\, 54\, 79)\; font-family: &quot\;Neue Plak&quot\;\, -apple-system\, BlinkMacSystemFont\, Roboto\, &quot\;Helvetica Neue&quot\;\, Helvetica\, Tahoma\, Arial\, sans-serif\; letter-spacing: 0.5px\; background-color: rgb(255\, 255\, 255)\;">\n<div class="eds-text--left" style="margin: 0px\; padding: 0px\;">\n<p style="margin: 0px\; padding: 0px\; color: rgb(111\, 114\, 135)\; font-size: 16px\; line-height: 1.5rem\;">Invention-Con is the USPTO&#39\;s annual conference for independent inventors\, entrepreneurs\, and small business owners whose success depends on guarding their creative work. This program is presented by the USPTO&#39\;s Office of Innovation Outreach. For more information\, please contact inventioncon@uspto.gov.</p>\n</div>\n</div>\n
LOCATION:Zoom
UID:e.2030.5597
SEQUENCE:3
DTSTAMP:20260420T141215Z
URL:http://business.fvchamber.com/events/details/invention-con-2022-5597
END:VEVENT

END:VCALENDAR
