BEGIN:VCALENDAR
VERSION:2.0
PRODID:-//ChamberMaster//Event Calendar 2.0//EN
METHOD:PUBLISH
X-PUBLISHED-TTL:P3D
REFRESH-INTERVAL:P3D
CALSCALE:GREGORIAN
BEGIN:VEVENT
DTSTART:20220121T010000Z
DTEND:20220121T020000Z
X-MICROSOFT-CDO-ALLDAYEVENT:FALSE
SUMMARY:Introduction to the Career Skills and Resource Lab
DESCRIPTION:Learn about services and resources to help you in your current classes and prepare you for the workplace.
X-ALT-DESC;FMTTYPE=text/html:Learn about services and resources to help you in your current classes and prepare you for the workplace.
LOCATION:Zoom
UID:e.2030.5425
SEQUENCE:3
DTSTAMP:20260421T014921Z
URL:http://business.fvchamber.com/events/details/introduction-to-the-career-skills-and-resource-lab-5425
END:VEVENT

END:VCALENDAR
