BEGIN:VCALENDAR
VERSION:2.0
PRODID:-//ChamberMaster//Event Calendar 2.0//EN
METHOD:PUBLISH
X-PUBLISHED-TTL:P3D
REFRESH-INTERVAL:P3D
CALSCALE:GREGORIAN
BEGIN:VEVENT
DTSTART:20210913T210000Z
DTEND:20210913T223000Z
X-MICROSOFT-CDO-ALLDAYEVENT:FALSE
SUMMARY:Introduction to Quickbooks Online Webinar Series- SBDC
DESCRIPTION:This webinar is the first and part of a three-part webinar series and is designed for new or prospective QuickBooks Online (QBO) users who have questions about key processes and software functions. Join us for an in-depth introduction to QuickBooks that will cover the key features of the accounting software and how to implement them into your overall accounting system.\n\nMonday\, September 13 at 2 PM | Class 1 will cover: \n\n\n	Benefits of QBO\n	Conversion of Desktop to QBO (Use a Proadvisor)\n	Subscription levels\, how to choose the right level for your business.\n	Navigating QBO\n	\n		Demo company\n		Sign in\n		Set up wizard\n		Layout\n	\n	\n	Setting up you books (The Gear Wheel)\n	\n		Company\n		Lists\n		Tools\n	\n	\n	Quick Create (the plus button)\n	Navigation Panel\n	\n		Sales Center\n		Expenses Center\n	\n	\n\n\n \n\nMonday\, September 20 at 2 PM | Class 2 will cover: \n\n\n	Customize the Chart of Accounts\n	Use Products and Services\n	Use Vendor\, Expenses\, and Purchase\n	Use Customer and Sales Transactions\n\n\n \n\nMonday\, September 27 at 2 PM | Class 3 will cover: \n\n\n	QBO Payroll\n	Bank Fees and Reconciling\n	Sales Tax\n	Extra Information on Transactions\n	Reporting\n	Expanded Functionality\n	Getting Help
X-ALT-DESC;FMTTYPE=text/html:<p style="box-sizing: border-box\; margin: 0px 0px 20px\; color: rgb(97\, 97\, 97)\; font-size: 14px\; line-height: 1.8\; font-family: Roboto\, sans-serif\; background-color: rgb(255\, 255\, 255)\;">This webinar is the first and part of a three-part webinar series and is designed for new or prospective QuickBooks Online (QBO) users who have questions about key processes and software functions. Join us for an in-depth introduction to QuickBooks that will cover the key features of the accounting software and how to implement them into your overall accounting system.</p>\n\n<p style="box-sizing: border-box\; margin: 0px 0px 20px\; color: rgb(97\, 97\, 97)\; font-size: 14px\; line-height: 1.8\; font-family: Roboto\, sans-serif\; background-color: rgb(255\, 255\, 255)\;">Monday\, September 13 at 2 PM | Class 1 will cover:&nbsp\;</p>\n\n<ol style="box-sizing: border-box\; margin-top: 0px\; margin-bottom: 0px\; border: 0px\; outline: 0px\; font-size: 16px\; vertical-align: baseline\; background: rgb(255\, 255\, 255)\; color: rgb(98\, 98\, 98)\; font-family: Montserrat\, -apple-system\, BlinkMacSystemFont\, &quot\;Segoe UI&quot\;\, Roboto\, sans-serif\;">\n	<li style="box-sizing: border-box\; margin-top: 0px\; margin-bottom: 0px\; border: 0px\; outline: 0px\; vertical-align: baseline\; background: transparent\;">Benefits of QBO</li>\n	<li style="box-sizing: border-box\; margin-top: 0px\; margin-bottom: 0px\; border: 0px\; outline: 0px\; vertical-align: baseline\; background: transparent\;">Conversion of Desktop to QBO (Use a Proadvisor)</li>\n	<li style="box-sizing: border-box\; margin-top: 0px\; margin-bottom: 0px\; border: 0px\; outline: 0px\; vertical-align: baseline\; background: transparent\;">Subscription levels\, how to choose the right level for your business.</li>\n	<li style="box-sizing: border-box\; margin-top: 0px\; margin-bottom: 0px\; border: 0px\; outline: 0px\; vertical-align: baseline\; background: transparent\;">Navigating QBO\n	<ol style="box-sizing: border-box\; margin-top: 0px\; margin-bottom: 0px\; border: 0px\; outline: 0px\; vertical-align: baseline\; background: transparent\;">\n		<li style="box-sizing: border-box\; margin-top: 0px\; margin-bottom: 0px\; border: 0px\; outline: 0px\; vertical-align: baseline\; background: transparent\;">Demo company</li>\n		<li style="box-sizing: border-box\; margin-top: 0px\; margin-bottom: 0px\; border: 0px\; outline: 0px\; vertical-align: baseline\; background: transparent\;">Sign in</li>\n		<li style="box-sizing: border-box\; margin-top: 0px\; margin-bottom: 0px\; border: 0px\; outline: 0px\; vertical-align: baseline\; background: transparent\;">Set up wizard</li>\n		<li style="box-sizing: border-box\; margin-top: 0px\; margin-bottom: 0px\; border: 0px\; outline: 0px\; vertical-align: baseline\; background: transparent\;">Layout</li>\n	</ol>\n	</li>\n	<li style="box-sizing: border-box\; margin-top: 0px\; margin-bottom: 0px\; border: 0px\; outline: 0px\; vertical-align: baseline\; background: transparent\;">Setting up you books (The Gear Wheel)\n	<ol style="box-sizing: border-box\; margin-top: 0px\; margin-bottom: 0px\; border: 0px\; outline: 0px\; vertical-align: baseline\; background: transparent\;">\n		<li style="box-sizing: border-box\; margin-top: 0px\; margin-bottom: 0px\; border: 0px\; outline: 0px\; vertical-align: baseline\; background: transparent\;">Company</li>\n		<li style="box-sizing: border-box\; margin-top: 0px\; margin-bottom: 0px\; border: 0px\; outline: 0px\; vertical-align: baseline\; background: transparent\;">Lists</li>\n		<li style="box-sizing: border-box\; margin-top: 0px\; margin-bottom: 0px\; border: 0px\; outline: 0px\; vertical-align: baseline\; background: transparent\;">Tools</li>\n	</ol>\n	</li>\n	<li style="box-sizing: border-box\; margin-top: 0px\; margin-bottom: 0px\; border: 0px\; outline: 0px\; vertical-align: baseline\; background: transparent\;">Quick Create (the plus button)</li>\n	<li style="box-sizing: border-box\; margin-top: 0px\; margin-bottom: 0px\; border: 0px\; outline: 0px\; vertical-align: baseline\; background: transparent\;">Navigation Panel\n	<ol style="box-sizing: border-box\; margin-top: 0px\; margin-bottom: 0px\; border: 0px\; outline: 0px\; vertical-align: baseline\; background: transparent\;">\n		<li style="box-sizing: border-box\; margin-top: 0px\; margin-bottom: 0px\; border: 0px\; outline: 0px\; vertical-align: baseline\; background: transparent\;">Sales Center</li>\n		<li style="box-sizing: border-box\; margin-top: 0px\; margin-bottom: 0px\; border: 0px\; outline: 0px\; vertical-align: baseline\; background: transparent\;">Expenses Center</li>\n	</ol>\n	</li>\n</ol>\n\n<div aria-hidden="true" class="wp-block-spacer" style="box-sizing: border-box\; clear: both\; font-family: Montserrat\, -apple-system\, BlinkMacSystemFont\, &quot\;Segoe UI&quot\;\, Roboto\, sans-serif\; color: rgb(98\, 98\, 98)\; font-size: 16px\; background-color: rgb(255\, 255\, 255)\; height: 20px\;">&nbsp\;</div>\n\n<p style="box-sizing: border-box\; margin: 0px 0px 20px\; color: rgb(97\, 97\, 97)\; font-size: 14px\; line-height: 1.8\; font-family: Roboto\, sans-serif\; background-color: rgb(255\, 255\, 255)\;">Monday\, September 20 at 2 PM | Class 2 will cover:&nbsp\;</p>\n\n<ul style="box-sizing: border-box\; margin-top: 0px\; margin-bottom: 0px\; border: 0px\; outline: 0px\; font-size: 16px\; vertical-align: baseline\; background: rgb(255\, 255\, 255)\; color: rgb(98\, 98\, 98)\; font-family: Montserrat\, -apple-system\, BlinkMacSystemFont\, &quot\;Segoe UI&quot\;\, Roboto\, sans-serif\;">\n	<li style="box-sizing: border-box\; margin-top: 0px\; margin-bottom: 0px\; border: 0px\; outline: 0px\; vertical-align: baseline\; background: transparent\;">Customize the Chart of Accounts</li>\n	<li style="box-sizing: border-box\; margin-top: 0px\; margin-bottom: 0px\; border: 0px\; outline: 0px\; vertical-align: baseline\; background: transparent\;">Use Products and Services</li>\n	<li style="box-sizing: border-box\; margin-top: 0px\; margin-bottom: 0px\; border: 0px\; outline: 0px\; vertical-align: baseline\; background: transparent\;">Use Vendor\, Expenses\, and Purchase</li>\n	<li style="box-sizing: border-box\; margin-top: 0px\; margin-bottom: 0px\; border: 0px\; outline: 0px\; vertical-align: baseline\; background: transparent\;">Use Customer and Sales Transactions</li>\n</ul>\n\n<div aria-hidden="true" class="wp-block-spacer" style="box-sizing: border-box\; clear: both\; font-family: Montserrat\, -apple-system\, BlinkMacSystemFont\, &quot\;Segoe UI&quot\;\, Roboto\, sans-serif\; color: rgb(98\, 98\, 98)\; font-size: 16px\; background-color: rgb(255\, 255\, 255)\; height: 20px\;">&nbsp\;</div>\n\n<p style="box-sizing: border-box\; margin: 0px 0px 20px\; color: rgb(97\, 97\, 97)\; font-size: 14px\; line-height: 1.8\; font-family: Roboto\, sans-serif\; background-color: rgb(255\, 255\, 255)\;">Monday\, September 27 at 2 PM | Class 3 will cover:&nbsp\;</p>\n\n<ul style="box-sizing: border-box\; margin-top: 0px\; margin-bottom: 0px\; border: 0px\; outline: 0px\; font-size: 16px\; vertical-align: baseline\; background: rgb(255\, 255\, 255)\; color: rgb(98\, 98\, 98)\; font-family: Montserrat\, -apple-system\, BlinkMacSystemFont\, &quot\;Segoe UI&quot\;\, Roboto\, sans-serif\;">\n	<li style="box-sizing: border-box\; margin-top: 0px\; margin-bottom: 0px\; border: 0px\; outline: 0px\; vertical-align: baseline\; background: transparent\;">QBO Payroll</li>\n	<li style="box-sizing: border-box\; margin-top: 0px\; margin-bottom: 0px\; border: 0px\; outline: 0px\; vertical-align: baseline\; background: transparent\;">Bank Fees and Reconciling</li>\n	<li style="box-sizing: border-box\; margin-top: 0px\; margin-bottom: 0px\; border: 0px\; outline: 0px\; vertical-align: baseline\; background: transparent\;">Sales Tax</li>\n	<li style="box-sizing: border-box\; margin-top: 0px\; margin-bottom: 0px\; border: 0px\; outline: 0px\; vertical-align: baseline\; background: transparent\;">Extra Information on Transactions</li>\n	<li style="box-sizing: border-box\; margin-top: 0px\; margin-bottom: 0px\; border: 0px\; outline: 0px\; vertical-align: baseline\; background: transparent\;">Reporting</li>\n	<li style="box-sizing: border-box\; margin-top: 0px\; margin-bottom: 0px\; border: 0px\; outline: 0px\; vertical-align: baseline\; background: transparent\;">Expanded Functionality</li>\n	<li style="box-sizing: border-box\; margin-top: 0px\; margin-bottom: 0px\; border: 0px\; outline: 0px\; vertical-align: baseline\; background: transparent\;">Getting Help</li>\n</ul>\n
LOCATION:Webinar
UID:e.2030.5379
SEQUENCE:3
DTSTAMP:20260421T101404Z
URL:http://business.fvchamber.com/events/details/introduction-to-quickbooks-online-webinar-series-sbdc-5379
END:VEVENT

END:VCALENDAR
