BEGIN:VCALENDAR
VERSION:2.0
PRODID:-//ChamberMaster//Event Calendar 2.0//EN
METHOD:PUBLISH
X-PUBLISHED-TTL:P3D
REFRESH-INTERVAL:P3D
CALSCALE:GREGORIAN
BEGIN:VEVENT
DTSTART:20151117T193000Z
DTEND:20151117T213000Z
X-MICROSOFT-CDO-ALLDAYEVENT:FALSE
SUMMARY:Installation Luncheon
DESCRIPTION:Installation of the 2016 Board of Directors
X-ALT-DESC;FMTTYPE=text/html:Installation of the 2016 Board of Directors
LOCATION:Mile Square Golf Course Banquet Room 10401 Warner Ave. Fountain Valley
UID:e.2030.1741
SEQUENCE:3
DTSTAMP:20260426T000114Z
URL:http://business.fvchamber.com/events/details/installation-luncheon-11-17-2015-1741
END:VEVENT

END:VCALENDAR
