BEGIN:VCALENDAR
VERSION:2.0
PRODID:-//ChamberMaster//Event Calendar 2.0//EN
METHOD:PUBLISH
X-PUBLISHED-TTL:P3D
REFRESH-INTERVAL:P3D
CALSCALE:GREGORIAN
BEGIN:VEVENT
DTSTART:20171114T193000Z
DTEND:20171114T213000Z
X-MICROSOFT-CDO-ALLDAYEVENT:FALSE
SUMMARY:Installation & Leadership Appreciation Luncheon
DESCRIPTION:Installation & Leadership Appreciation Luncheon\n\nSponsored by Theresa Simes Insurance Agency\, Inc.-Farmers Insurance
X-ALT-DESC;FMTTYPE=text/html:<span style="font-size:18px\;"><strong>Installation &amp\; Leadership Appreciation Luncheon<br />\n<em><span style="font-size:16px\;">Sponsored by Theresa Simes Insurance Agency\, Inc.-Farmers Insurance</span></em></strong></span>
LOCATION:Mile Square Golf Course Banquet Room 10401 Warner Ave. Fountain Valley
UID:e.2030.4019
SEQUENCE:3
DTSTAMP:20260424T125238Z
URL:http://business.fvchamber.com/events/details/installation-leadership-appreciation-luncheon-11-14-2017-4019
END:VEVENT

END:VCALENDAR
