BEGIN:VCALENDAR
VERSION:2.0
PRODID:-//ChamberMaster//Event Calendar 2.0//EN
METHOD:PUBLISH
X-PUBLISHED-TTL:P3D
REFRESH-INTERVAL:P3D
CALSCALE:GREGORIAN
BEGIN:VEVENT
DTSTART:20181113T193000Z
DTEND:20181113T213000Z
X-MICROSOFT-CDO-ALLDAYEVENT:FALSE
SUMMARY:Installation & Leadership Appreciation Luncheon
DESCRIPTION:Installation & Leadership Appreciation Luncheon
X-ALT-DESC;FMTTYPE=text/html:<span style="font-size:14px\;"><strong><span style="font-size:16px\;">Installation &amp\; Leadership Appreciation Luncheon</span></strong></span>
LOCATION:Mile Square Golf Course Restaurant 10401 Warner Ave. Fountain Valley
UID:e.2030.4031
SEQUENCE:3
DTSTAMP:20260423T161302Z
URL:http://business.fvchamber.com/events/details/installation-leadership-appreciation-luncheon-11-13-2018-4031
END:VEVENT

END:VCALENDAR
