BEGIN:VCALENDAR
VERSION:2.0
PRODID:-//ChamberMaster//Event Calendar 2.0//EN
METHOD:PUBLISH
X-PUBLISHED-TTL:P3D
REFRESH-INTERVAL:P3D
CALSCALE:GREGORIAN
BEGIN:VEVENT
DTSTART:20230722T173000Z
DTEND:20230722T193000Z
X-MICROSOFT-CDO-ALLDAYEVENT:FALSE
SUMMARY:Infant-Toddler CPR Class
DESCRIPTION:Parents and Guardians! Bring your Children (0M-5yrs) and learn the life-saving tools of pediatric CPR.
X-ALT-DESC;FMTTYPE=text/html:Parents and Guardians! Bring your Children (0M-5yrs) and learn the life-saving tools of pediatric CPR.
LOCATION:Sports Basement 10800 Kalama River Ave\, Fountain Valley\, CA 92708
UID:e.2030.6187
SEQUENCE:3
DTSTAMP:20260419T210230Z
URL:http://business.fvchamber.com/events/details/infant-toddler-cpr-class-6187
END:VEVENT

END:VCALENDAR
