BEGIN:VCALENDAR
VERSION:2.0
PRODID:-//ChamberMaster//Event Calendar 2.0//EN
METHOD:PUBLISH
X-PUBLISHED-TTL:P3D
REFRESH-INTERVAL:P3D
CALSCALE:GREGORIAN
BEGIN:VEVENT
DTSTART:20210916T170000Z
DTEND:20210916T183000Z
X-MICROSOFT-CDO-ALLDAYEVENT:FALSE
SUMMARY:Incorporating your Small Business
DESCRIPTION:The process of incorporating your business can be a difficult one   what forms do you need\, what processes will your new company need to follow to comply? Presenter Attorney Gary Foltz has over 20 years of experience helping entrepreneurs incorporate their small businesses\, and will discuss forming a corporation\; the various forms of organization\; selecting the type of organization that's right for you\; as well as answering your business planning questions.
X-ALT-DESC;FMTTYPE=text/html:<span style="color: rgb(97\, 97\, 97)\; font-family: Roboto\, sans-serif\; font-size: 14px\;">The process of incorporating your business can be a difficult one &ndash\; what forms do you need\, what processes will your new company need to follow to comply? Presenter Attorney Gary Foltz has over 20 years of experience helping entrepreneurs incorporate their small businesses\, and will discuss forming a corporation\; the various forms of organization\; selecting the type of organization that&rsquo\;s right for you\; as well as answering your business planning questions.</span>
LOCATION:Webinar
UID:e.2030.5382
SEQUENCE:3
DTSTAMP:20260421T101728Z
URL:http://business.fvchamber.com/events/details/incorporating-your-small-business-5382
END:VEVENT

END:VCALENDAR
