BEGIN:VCALENDAR
VERSION:2.0
PRODID:-//ChamberMaster//Event Calendar 2.0//EN
METHOD:PUBLISH
X-PUBLISHED-TTL:P3D
REFRESH-INTERVAL:P3D
CALSCALE:GREGORIAN
BEGIN:VEVENT
DTSTART:20150822T200000Z
DTEND:20150822T220000Z
X-MICROSOFT-CDO-ALLDAYEVENT:FALSE
SUMMARY:Ice Cream Social
DESCRIPTION:Ice Cream Social\n\nFV Historical Society's annual summer ice cream event at Heritage Park. Free admission. Ice cream sundaes are about $2-$3 each.\n\n\n\nCome enjoy the shade trees and have a yummy cold treat while enjoying the town's historical memorabilia collection.
X-ALT-DESC;FMTTYPE=text/html:<span style="font-size:14px\;"><span style="font-family: verdana\;"><strong>Ice Cream Social</strong></span></span><br />\n<span class="fsl">FV Historical Society&#39\;s annual summer ice cream event at Heritage Park. Free admission. Ice cream sundaes are about $2-$3 each.<br />\n<br />\n<em>Come enjoy the shade trees and have a yummy cold treat while enjoying the town&#39\;s historical memorabilia collection.</em></span>
LOCATION:Heritage Park 10200 Slater Ave. Fountain Valley (next to Fountain Valley Library)
UID:e.2030.2160
SEQUENCE:3
DTSTAMP:20260426T041527Z
URL:http://business.fvchamber.com/events/details/ice-cream-social-08-22-2015-2160
END:VEVENT

END:VCALENDAR
